BEGIN:VCALENDAR
VERSION:2.0
PRODID:-//eventon.com NONSGML v1.0//EN
CALSCALE:GREGORIAN
METHOD:PUBLISH
BEGIN:VEVENT
UID:69e503d10b9c9
DTSTAMP:20260419T163321Z
DTSTART:20251212T000000Z
DTEND:20251212T000000Z
LOCATION:REFI Vélez Sársfield 641
SUMMARY:NADIA LARCHER
DESCRIPTION:“Trinar – La flor” es un disco de ocho canciones producid
 o y arreglado por Andrés Pilar\,  y grabado\,  mezclado y masterizado entr
 e noviembre y febrero de 2024 por Facundo Rodríguez. La obra reúne a mús
 icos de primer nivel como Pedro Rossi\,  Fernando Silva y Mariano “Tiki
  Cantero\,  y suma una[..]\nhttps://rosariolaciudad.com.ar/agenda/nadia-la
 rcher/
URL:https://rosariolaciudad.com.ar/agenda/nadia-larcher/
END:VEVENT
END:VCALENDAR