BEGIN:VCALENDAR
VERSION:2.0
PRODID:-//eventon.com NONSGML v1.0//EN
CALSCALE:GREGORIAN
METHOD:PUBLISH
BEGIN:VEVENT
UID:69e506b5e4e84
DTSTAMP:20260419T164541Z
DTSTART:20251213T233000Z
DTEND:20251213T233000Z
LOCATION:COMPLEJO ASTRONÓMICO MUNICIPAL Av. Diario La Capital 1602\,  S2000BMH Rosario\,  Santa Fe
SUMMARY:NOCHE DE OTRA GALAXIA
DESCRIPTION:El Ensamble Municipal de Vientos de Rosario despide el año con
  un concierto especial que pondrá en valor su versatilidad y su aporte a l
 a vida cultural de la ciudad. Conformado por músicos de destacada trayecto
 ria\,  el grupo abordará un programa que recorrerá bandas sonoras y obras
  de temática galáctica\, [..]\nhttps://rosariolaciudad.com.ar/agenda/noch
 e-de-otra-galaxia/
URL:https://rosariolaciudad.com.ar/agenda/noche-de-otra-galaxia/
END:VEVENT
END:VCALENDAR