BEGIN:VCALENDAR
VERSION:2.0
PRODID:-//eventon.com NONSGML v1.0//EN
CALSCALE:GREGORIAN
METHOD:PUBLISH
BEGIN:VEVENT
UID:69e506b5bdfb5
DTSTAMP:20260419T164541Z
DTSTART:20251213T230000Z
DTEND:20251213T230000Z
LOCATION:Autódromo Municipal Av. Jorge Newbery
SUMMARY:LA RENGA
DESCRIPTION:La poderosa banda de Mataderos regresa a Rosario en el marco de
  una nueva gira nacional que promete sacudir la escena local. Además de pr
 esentar su más reciente disco\,  el grupo recorrerá esos clásicos infalt
 ables que la consagraron como uno de los fenómenos más importantes del ro
 ck argentino. Un reencuentro[..]\nhttps://rosariolaciudad.com.ar/agenda/la-
 renga/
URL:https://rosariolaciudad.com.ar/agenda/la-renga/
END:VEVENT
END:VCALENDAR