BEGIN:VCALENDAR
VERSION:2.0
PRODID:-//eventon.com NONSGML v1.0//EN
CALSCALE:GREGORIAN
METHOD:PUBLISH
BEGIN:VEVENT
UID:69e5067ec42bd
DTSTAMP:20260419T164446Z
DTSTART:20251213T000000Z
DTEND:20251213T000000Z
LOCATION:Bioceres Arena Cafferata 729
SUMMARY:LISANDRO ARISTIMUÑO
DESCRIPTION:Lisandro Aristimuño vuelve a Rosario con un show imperdible. A
 stuto creador de una propuesta única que fusiona rock\,  folk\,  electrón
 ica y folk-rock alternativo\,  Aristimuño llega con una formación en trí
 o —junto a Lucas Argomedo en bajo y Martín Casado en batería—\,  llev
 ando su repertorio a nuevas sonoridades. Este regreso es[..]\nhttps://rosar
 iolaciudad.com.ar/agenda/lisandro-aristimuno-2/
URL:https://rosariolaciudad.com.ar/agenda/lisandro-aristimuno-2/
END:VEVENT
END:VCALENDAR