BEGIN:VCALENDAR
VERSION:2.0
PRODID:-//eventon.com NONSGML v1.0//EN
CALSCALE:GREGORIAN
METHOD:PUBLISH
BEGIN:VEVENT
UID:69e9f252b21e9
DTSTAMP:20260423T102002Z
DTSTART:20260223T000000Z
DTEND:20260223T000000Z
LOCATION:Teatro Broadway SAN LORENZO 1223 ROSARIO
SUMMARY:DALILA
DESCRIPTION:Una de las figuras más destacadas de la movida tropical regres
 a a su ciudad natal para ofrecer un espectáculo que recorrerá sus clásic
 os de siempre y estrenará composiciones recientes. La cantante prepara una
  noche llena de energía\,  baile y nostalgia\,  ideal para quienes siguen 
 de cerca la música tropical argentina[..]\nhttps://rosariolaciudad.com.ar/
 agenda/dalila-3/
URL:https://rosariolaciudad.com.ar/agenda/dalila-3/
END:VEVENT
END:VCALENDAR