BEGIN:VCALENDAR
VERSION:2.0
PRODID:-//eventon.com NONSGML v1.0//EN
CALSCALE:GREGORIAN
METHOD:PUBLISH
BEGIN:VEVENT
UID:69e9de0a8712e
DTSTAMP:20260423T085330Z
DTSTART:20251205T000000Z
DTEND:20251205T000000Z
LOCATION:Complejo Cultural Atlas Mitre
SUMMARY:EXPERIENCIA PIAZZOLLA
DESCRIPTION:Experiencia Piazzolla es una formación rosarina única que abo
 rda la obra de Astor Piazzolla desde una profunda labor de investigación\,
   desgrabación y transcripción del repertorio original de su histórico Q
 uinteto. Con el objetivo de acercar a nuevas generaciones al inconfundible 
 lenguaje del bandoneonista\,  el conjunto —integrado por Martín Tessa (g
 uitarra[..]\nhttps://rosariolaciudad.com.ar/agenda/experiencia-piazzolla/
URL:https://rosariolaciudad.com.ar/agenda/experiencia-piazzolla/
END:VEVENT
END:VCALENDAR