BEGIN:VCALENDAR
VERSION:2.0
PRODID:-//eventon.com NONSGML v1.0//EN
CALSCALE:GREGORIAN
METHOD:PUBLISH
BEGIN:VEVENT
UID:69e9ddd4efd96
DTSTAMP:20260423T085236Z
DTSTART:20251205T000000Z
DTEND:20251205T000000Z
LOCATION:Teatro Broadway SAN LORENZO 1223 ROSARIO
SUMMARY:ADRIAN ABONIZIO Y LA ESPERANZA
DESCRIPTION:La agrupación presenta “Barco Hospital”\,  un disco nacido
  tras los 40 años de la Trova Rosarina y concebido como una respuesta crea
 tiva frente a tiempos de incertidumbre. El proyecto\,  iniciado a fines de 
 2023 y consolidado a lo largo de 2024 y 2025\,  se construyó de manera col
 ectiva y sin[..]\nhttps://rosariolaciudad.com.ar/agenda/adrian-abonizio-y-l
 a-esperanza/
URL:https://rosariolaciudad.com.ar/agenda/adrian-abonizio-y-la-esperanza/
END:VEVENT
END:VCALENDAR