BEGIN:VCALENDAR
VERSION:2.0
PRODID:-//eventon.com NONSGML v1.0//EN
CALSCALE:GREGORIAN
METHOD:PUBLISH
BEGIN:VEVENT
UID:69e9f1a791987
DTSTAMP:20260423T101711Z
DTSTART:20251207T000000Z
DTEND:20251207T000000Z
LOCATION:Bioceres Arena Cafferata 729
SUMMARY:MOLOTOV
DESCRIPTION:Molotov\,  la emblemática banda mexicana de rock en español\,
   llegará a Rosario el 6 de diciembre como parte de su gira “TXXXR 30 An
 iversario”\,  que celebra sus tres décadas de carrera.El concierto será
  en el Bioceres Arena a las 20:00 horas. Con su energía explosiva\,  su cr
 ítica social y sus[..]\nhttps://rosariolaciudad.com.ar/agenda/molotov/
URL:https://rosariolaciudad.com.ar/agenda/molotov/
END:VEVENT
END:VCALENDAR