BEGIN:VCALENDAR
VERSION:2.0
PRODID:-//eventon.com NONSGML v1.0//EN
CALSCALE:GREGORIAN
METHOD:PUBLISH
BEGIN:VEVENT
UID:69e9e1202d0a0
DTSTAMP:20260423T090640Z
DTSTART:20251206T000000Z
DTEND:20251206T000000Z
LOCATION:Bioceres Arena Cafferata 729
SUMMARY:ANGELA TORRES
DESCRIPTION:Ángela Torres presentó su primer álbum solista\,  No Me Olvi
 des\,  con un disco íntimo y visceral de once canciones producidas por Fer
 mín Ugarte. La música mezcla pop\,  electrónica y baladas experimentales
 ; las letras exploran temas como relaciones tóxicas\,  vulnerabilidad y la
  exposición pública. Su gira “No Me Olvides Tour” incluye[..]\nhttps:
 //rosariolaciudad.com.ar/agenda/angela-torres/
URL:https://rosariolaciudad.com.ar/agenda/angela-torres/
END:VEVENT
END:VCALENDAR