BEGIN:VCALENDAR
VERSION:2.0
PRODID:-//eventon.com NONSGML v1.0//EN
CALSCALE:GREGORIAN
METHOD:PUBLISH
BEGIN:VEVENT
UID:69e9ddf1ee6e2
DTSTAMP:20260423T085305Z
DTSTART:20251206T000000Z
DTEND:20251206T000000Z
LOCATION:Anfiteatro Municipal Humberto de Nito Av. Diario La Capital 1750
SUMMARY:TRUENO
DESCRIPTION:El rapero argentino Trueno se presentará en Rosario.En este sh
 ow\,  el artista ofrecerá un repaso de su nuevo disco “Bien o Mal”\,  
 una obra orgánica de 13 temas con producción real y colaboraciones clave.
 Trueno\,  conocido por su estilo potente y su impacto en la escena urbana l
 atinoamericana\,  llega con toda[..]\nhttps://rosariolaciudad.com.ar/agenda
 /trueno/
URL:https://rosariolaciudad.com.ar/agenda/trueno/
END:VEVENT
END:VCALENDAR