BEGIN:VCALENDAR
VERSION:2.0
PRODID:-//eventon.com NONSGML v1.0//EN
CALSCALE:GREGORIAN
METHOD:PUBLISH
BEGIN:VEVENT
UID:69e9de09aec70
DTSTAMP:20260423T085329Z
DTSTART:20260314T000000Z
DTEND:20260314T000000Z
LOCATION:Terraza Lavardén Mendoza 1085
SUMMARY:MÚSICA PARA VOLAR
DESCRIPTION:El grupo Música para Volar inaugura el 2026 con un espectácul
 o que reinterpreta clásicos del rock nacional a través de arreglos origin
 ales para cuerdas y vientos. El repertorio incluye obras emblemáticas de S
 oda Stereo\,  Charly García\,  Fito Páez y la etapa solista de Gustavo Ce
 rati\,  en una propuesta que fusiona[..]\nhttps://rosariolaciudad.com.ar/ag
 enda/musica-para-volar-6/
URL:https://rosariolaciudad.com.ar/agenda/musica-para-volar-6/
END:VEVENT
END:VCALENDAR