BEGIN:VCALENDAR
VERSION:2.0
PRODID:-//eventon.com NONSGML v1.0//EN
CALSCALE:GREGORIAN
METHOD:PUBLISH
BEGIN:VEVENT
UID:69e506d104f95
DTSTAMP:20260419T164609Z
DTSTART:20251212T000000Z
DTEND:20251212T000000Z
LOCATION:Teatro Astengo Mitre 754
SUMMARY:LOS DIAS PERFECTOS
DESCRIPTION:Una historia donde la lectura de unas cartas olvidadas despiert
 a el eco de una vida entera. Inspirada en la novela de Jacobo Bergareche\, 
  la obra dirigida y adaptada por Daniel Veronese\,  con la actuación de Le
 onardo Sbaraglia\,  explora el amor\,  la pérdida y la memoria a través d
 e un hombre[..]\nhttps://rosariolaciudad.com.ar/agenda/los-dias-perfectos/
URL:https://rosariolaciudad.com.ar/agenda/los-dias-perfectos/
END:VEVENT
END:VCALENDAR