BEGIN:VCALENDAR
VERSION:2.0
PRODID:-//eventon.com NONSGML v1.0//EN
CALSCALE:GREGORIAN
METHOD:PUBLISH
BEGIN:VEVENT
UID:69e9ddd4aa691
DTSTAMP:20260423T085236Z
DTSTART:20251017T210000Z
DTEND:20251017T210000Z
LOCATION:Sede de Gobierno de la UNR Maipú 1065
SUMMARY:CHARLA: SALUD\,  MUJERES E HISTORIA
DESCRIPTION:Pupina Plomer\,  Soledad Rodríguez\,  María Eugenia Schmuck y
  Jennifer Puszkin se reúnen en una mesa de diálogo única para abordar la
  salud integral de la mujer desde miradas complementarias. Una conversació
 n profunda y necesaria\,  digna de ser escuchada como un buen episodio de p
 odcast: auténtico\,  diverso y revelador. La entrada[..]\nhttps://rosariol
 aciudad.com.ar/agenda/charla-salud-mujeres-e-historia/
URL:https://rosariolaciudad.com.ar/agenda/charla-salud-mujeres-e-historia/
END:VEVENT
END:VCALENDAR