BEGIN:VCALENDAR
VERSION:2.0
PRODID:-//eventon.com NONSGML v1.0//EN
CALSCALE:GREGORIAN
METHOD:PUBLISH
BEGIN:VEVENT
UID:69e9f59eb8a21
DTSTAMP:20260423T103406Z
DTSTART:20251019T190000Z
DTEND:20251020T000000Z
LOCATION:Galpón 11 Estevez Boero 980
SUMMARY:FDR LEVEL UP
DESCRIPTION:FDR Level Up llega con su primera edición para celebrar la pas
 ión por el K-Pop. Un evento pensado para todas las edades\,  con competenc
 ias de baile\,  juegos\,  random dance plays y un paseo de compras lleno de
  emprendimientos inspirados en la cultura asiática y la ola Hallyu. ¡Una 
 cita imperdible[..]\nhttps://rosariolaciudad.com.ar/agenda/fdr-level-up/
URL:https://rosariolaciudad.com.ar/agenda/fdr-level-up/
END:VEVENT
END:VCALENDAR