BEGIN:VCALENDAR
VERSION:2.0
PRODID:-//eventon.com NONSGML v1.0//EN
CALSCALE:GREGORIAN
METHOD:PUBLISH
BEGIN:VEVENT
UID:69e9ddd613118
DTSTAMP:20260423T085238Z
DTSTART:20251019T220000Z
DTEND:20251019T220000Z
LOCATION:Teatro Broadway SAN LORENZO 1223 ROSARIO
SUMMARY:LA VIUDA ALEGRE
DESCRIPTION:&#8220;La viuda alegre&#8221;\,  la célebre opereta de Franz L
 ehár\,  combina enredos amorosos\,  humor y deslumbrantes escenas de baile
  en una historia que gira en torno a una rica viuda y los intentos por evit
 ar que su fortuna abandone el país. Un clásico encantador del repertorio 
 lírico. Podés adquirir tus entradas[..]\nhttps://rosariolaciudad.com.ar/a
 genda/la-viuda-alegre/
URL:https://rosariolaciudad.com.ar/agenda/la-viuda-alegre/
END:VEVENT
END:VCALENDAR