BEGIN:VCALENDAR
VERSION:2.0
PRODID:-//eventon.com NONSGML v1.0//EN
CALSCALE:GREGORIAN
METHOD:PUBLISH
BEGIN:VEVENT
UID:69e9ddf197647
DTSTAMP:20260423T085305Z
DTSTART:20251018T210000Z
DTEND:20251018T210000Z
LOCATION:
SUMMARY:CONCIERTO ANIVERSARIO DE LA ORQUESTA BARRIO LUDUEÑA
DESCRIPTION:La Escuela Orquesta Barrio Ludueña celebra 20 años de música
 \,  comunidad e identidadCon un gran concierto abierto a toda la familia\, 
  la orquesta festeja dos décadas de trayectoria interpretando un variado r
 epertorio que incluye música de películas\,  clásicos del rock nacional 
 y ritmos latinoamericanos. Una propuesta que reúne arte\,  compromiso[..]\
 nhttps://rosariolaciudad.com.ar/agenda/concierto-aniversario-de-la-orquesta
 -barrio-luduena/
URL:https://rosariolaciudad.com.ar/agenda/concierto-aniversario-de-la-orquesta-barrio-luduena/
END:VEVENT
END:VCALENDAR