BEGIN:VCALENDAR
VERSION:2.0
PRODID:-//eventon.com NONSGML v1.0//EN
CALSCALE:GREGORIAN
METHOD:PUBLISH
BEGIN:VEVENT
UID:69e9ddf1681f6
DTSTAMP:20260423T085305Z
DTSTART:20251019T230000Z
DTEND:20251019T230000Z
LOCATION:Anfiteatro Municipal Av. Diario La Capital 1750
SUMMARY:CAMILA
DESCRIPTION:Camila\,  el emblemático trío mexicano de pop latino\,  llega
  a Rosario como parte de su gira Regresa Tour para celebrar 20 años de tra
 yectoria. El show incluirá un recorrido por sus grandes éxitos —como 
 Todo Cambió”\,  “Mientes” y “Aléjate de Mí”—\,  junto con l
 as canciones de su más reciente álbum[..]\nhttps://rosariolaciudad.com.ar
 /agenda/camila/
URL:https://rosariolaciudad.com.ar/agenda/camila/
END:VEVENT
END:VCALENDAR