BEGIN:VCALENDAR
VERSION:2.0
PRODID:-//eventon.com NONSGML v1.0//EN
CALSCALE:GREGORIAN
METHOD:PUBLISH
BEGIN:VEVENT
UID:69e9f59eb75e4
DTSTAMP:20260423T103406Z
DTSTART:20251019T040000Z
DTEND:20251019T080000Z
LOCATION:El Aserradero Montevideo 1518
SUMMARY:1D NIGHT
DESCRIPTION:Fiesta temática de One Direction: por y para fans! Este evento
  tiene como finalidad rememorar a la banda y a sus miembros de la mejor man
 era; cantando a todo pulmón los mejores temas y jugando a juegos temático
 s. Podés adquirir tus entradas AQUÍ. Mirá todos los eventos de nuestra a
 genda!\nhttps://rosariolaciudad.com.ar/agenda/1dnight/
URL:https://rosariolaciudad.com.ar/agenda/1dnight/
END:VEVENT
END:VCALENDAR