BEGIN:VCALENDAR
VERSION:2.0
PRODID:-//eventon.com NONSGML v1.0//EN
CALSCALE:GREGORIAN
METHOD:PUBLISH
BEGIN:VEVENT
UID:69e9f252ad446
DTSTAMP:20260423T102002Z
DTSTART:20260426T000000Z
DTEND:20260426T000000Z
LOCATION:Teatro La Comedia Mitre 958
SUMMARY:RELATIVIDAD
DESCRIPTION:En un gélido día de 1949\,  una misteriosa periodista irrumpe
  en la vida de Albert Einstein con una aparente entrevista. Lo que comienza
  como una charla amable se transforma en un duelo verbal cargado de tensió
 n\,  donde un oscuro secreto del pasado del genio amenaza con salir a la lu
 z.[..]\nhttps://rosariolaciudad.com.ar/agenda/relatividad/
URL:https://rosariolaciudad.com.ar/agenda/relatividad/
END:VEVENT
END:VCALENDAR