BEGIN:VCALENDAR
VERSION:2.0
PRODID:-//eventon.com NONSGML v1.0//EN
CALSCALE:GREGORIAN
METHOD:PUBLISH
BEGIN:VEVENT
UID:69e9de0af3c46
DTSTAMP:20260423T085330Z
DTSTART:20251208T000000Z
DTEND:20251209T000000Z
LOCATION:Anfiteatro Municipal Humberto de Nito Av. Diario La Capital 1750
SUMMARY:MIRANDA!
DESCRIPTION:Ale Sergi y Juliana Gattas llegan a la ciudad con una propuesta
  imperdible: una noche mágica junto al «Nuevo Hotel Miranda!»\,  el espe
 ctáculo que reinventa los clásicos del dúo con una puesta en escena desl
 umbrante vuelve a Rosario luego de agotar su show en el mes de Septiembre. 
 Podés comprar[..]\nhttps://rosariolaciudad.com.ar/agenda/miranda-3/
URL:https://rosariolaciudad.com.ar/agenda/miranda-3/
END:VEVENT
END:VCALENDAR