BEGIN:VCALENDAR
VERSION:2.0
PRODID:-//eventon.com NONSGML v1.0//EN
CALSCALE:GREGORIAN
METHOD:PUBLISH
BEGIN:VEVENT
UID:69eb9a97dd2fb
DTSTAMP:20260424T163015Z
DTSTART:20230520T190000Z
DTEND:20230521T190000Z
LOCATION:
SUMMARY:El cielo de tu patio
DESCRIPTION:&#8220;¿Por qué la Luna cambia de forma?&#8221;\,  &#8220;¿D
 ónde está la Osa Mayor?&#8221;\,  &#8220;¿Esa luz que se mueve es un pla
 to volador?&#8221; Conocé a Camilo\,  un niño curioso que\,  con la ayuda
  de una astrónoma\,  descubrirá las respuestas a estas preguntas -y a muc
 has- desde el cielo de su patio. Porque[..]\nhttps://rosariolaciudad.com.ar
 /agenda/el-cielo-de-tu-patio/
URL:https://rosariolaciudad.com.ar/agenda/el-cielo-de-tu-patio/
END:VEVENT
END:VCALENDAR