BEGIN:VCALENDAR
VERSION:2.0
PRODID:-//eventon.com NONSGML v1.0//EN
CALSCALE:GREGORIAN
METHOD:PUBLISH
BEGIN:VEVENT
UID:69e4e80dc288a
DTSTAMP:20260419T143453Z
DTSTART:20250622T230000Z
DTEND:20250623T000000Z
LOCATION:Teatro Platea Alta Salta 1857\,  S2000 Rosario\,  Santa Fe
SUMMARY:QUIÉN SIEMBRA VIENTOS
DESCRIPTION:“Quién siembra vientos” nos permite ser testigos del reenc
 uentro entre Ana y Diego\,  dos ex-compañeros de la escuela primaria\,  m
 s de treinta años después\,  durante una cena de aniversario de egresado
 s en la vecinal del barrio. La vida los arrastró por distintos caminos y n
 o parecen ser más que dos[..]\nhttps://rosariolaciudad.com.ar/agenda/quien
 -siembra-vientos/
URL:https://rosariolaciudad.com.ar/agenda/quien-siembra-vientos/
END:VEVENT
END:VCALENDAR