BEGIN:VCALENDAR
VERSION:2.0
PRODID:-//eventon.com NONSGML v1.0//EN
CALSCALE:GREGORIAN
METHOD:PUBLISH
BEGIN:VEVENT
UID:69e98ea40a4e7
DTSTAMP:20260423T031444Z
DTSTART:20260426T200000Z
DTEND:20260426T200000Z
LOCATION:Teatro Astengo Mitre 754
SUMMARY:PIM PAU
DESCRIPTION:El proyecto argentino-brasilero presenta su nuevo espectáculo\
 ,  una propuesta artística que combina música\,  educación y juego para 
 chicos y grandes. Reconocido por su crecimiento y originalidad\,  el grupo 
 pone el juego en el centro de la escena\,  con una identidad lúdica y una 
 constante búsqueda creativa que se refleja en[..]\nhttps://rosariolaciudad
 .com.ar/agenda/pim-pau-2/
URL:https://rosariolaciudad.com.ar/agenda/pim-pau-2/
END:VEVENT
END:VCALENDAR