BEGIN:VCALENDAR
VERSION:2.0
PRODID:-//eventon.com NONSGML v1.0//EN
CALSCALE:GREGORIAN
METHOD:PUBLISH
BEGIN:VEVENT
UID:69e98e8b6106f
DTSTAMP:20260423T031419Z
DTSTART:20260425T230000Z
DTEND:20260425T230000Z
LOCATION:Teatro Astengo Mitre 754
SUMMARY:CONNIE BALLARINI
DESCRIPTION:Con su humor filoso\,  interacción con el público y un estilo
  que no se parece a nadie. En constante evolución\,  Connie transforma cad
 a escenario en su terreno de juego\,  mezcla diálogos interactivos con el 
 público en un stand up afilado y desopilante. Podes adquirir tus entradas 
 AQUÍ. Mirá todos los[..]\nhttps://rosariolaciudad.com.ar/agenda/connie-ba
 llarini/
URL:https://rosariolaciudad.com.ar/agenda/connie-ballarini/
END:VEVENT
END:VCALENDAR